BEGIN:VCALENDAR
PRODID:https://www.soglos.com
VERSION:2.0
CALSCALE:GREGORIAN
METHOD:PUBLISH
BEGIN:VEVENT
SUMMARY;LANGUAGE=en-gb:Halloween Party at Clearwell Caves
CLASS:PUBLIC
CREATED:20260421T085657Z
DESCRIPTION:
DTSTART:20191026T200000
DTEND:20191026T200000
UID:937f6833-7513-448b-8ed3-16b21976d5b9
END:VEVENT
END:VCALENDAR
