BEGIN:VCALENDAR
PRODID:https://www.soglos.com
VERSION:2.0
CALSCALE:GREGORIAN
METHOD:PUBLISH
BEGIN:VEVENT
SUMMARY;LANGUAGE=en-gb:Easter at Dr Jenner's House
CLASS:PUBLIC
CREATED:20260421T085557Z
DESCRIPTION:
DTSTART:20180330T110000
DTEND:20180404T000000
UID:715fa369-031c-4cb5-a039-c067414531d7
END:VEVENT
END:VCALENDAR
