BEGIN:VCALENDAR
PRODID:https://www.soglos.com
VERSION:2.0
CALSCALE:GREGORIAN
METHOD:PUBLISH
BEGIN:VEVENT
SUMMARY;LANGUAGE=en-gb:February Half Term Fun 
CLASS:PUBLIC
CREATED:20260423T083118Z
DESCRIPTION:
DTSTART:20200217T100000
DTEND:20200221T000000
UID:c8f5b554-3a06-4f35-8cb4-9bf8b3e8b148
END:VEVENT
END:VCALENDAR
