BEGIN:VCALENDAR
PRODID:https://www.soglos.com
VERSION:2.0
CALSCALE:GREGORIAN
METHOD:PUBLISH
BEGIN:VEVENT
SUMMARY;LANGUAGE=en-gb:Simon and Garfunkel: Through the Years show
CLASS:PUBLIC
CREATED:20260421T085514Z
DESCRIPTION:
DTSTART:20190209T200000
DTEND:20190209T200000
UID:0552ef8c-121e-4d68-b8e6-29ef3af45750
END:VEVENT
END:VCALENDAR
