BEGIN:VCALENDAR
PRODID:https://www.soglos.com
VERSION:2.0
CALSCALE:GREGORIAN
METHOD:PUBLISH
BEGIN:VEVENT
SUMMARY;LANGUAGE=en-gb:Russell Howard comedy gig
CLASS:PUBLIC
CREATED:20260423T082149Z
DESCRIPTION:
DTSTART:20211001T000000
DTEND:20211001T000000
UID:103eb757-4eab-44af-b67b-65a2a65fef53
END:VEVENT
BEGIN:VEVENT
SUMMARY;LANGUAGE=en-gb:Russell Howard comedy gig
CLASS:PUBLIC
CREATED:20260423T082149Z
DESCRIPTION:
DTSTART:20211002T000000
DTEND:20211002T000000
UID:307c8270-5460-4cc7-94ac-0959098245cc
END:VEVENT
END:VCALENDAR
