BEGIN:VCALENDAR
PRODID:https://www.soglos.com
VERSION:2.0
CALSCALE:GREGORIAN
METHOD:PUBLISH
BEGIN:VEVENT
SUMMARY;LANGUAGE=en-gb:The Maverick Adidas Terrex Original Race
CLASS:PUBLIC
CREATED:20260422T111818Z
DESCRIPTION:
DTSTART:20210313T080000
DTEND:20210313T080000
UID:0d14bf4f-a140-4a2c-b53e-e3461ba84a25
END:VEVENT
END:VCALENDAR
