BEGIN:VCALENDAR
PRODID:https://www.soglos.com
VERSION:2.0
CALSCALE:GREGORIAN
METHOD:PUBLISH
BEGIN:VEVENT
SUMMARY;LANGUAGE=en-gb:Cadbury Easter Egg Hunt
CLASS:PUBLIC
CREATED:20260422T031146Z
DESCRIPTION:
DTSTART:20200410T110000
DTEND:20200413T000000
UID:b2a04af5-1311-4bed-9887-3b89308354b9
END:VEVENT
END:VCALENDAR
