BEGIN:VCALENDAR
PRODID:https://www.soglos.com
VERSION:2.0
CALSCALE:GREGORIAN
METHOD:PUBLISH
BEGIN:VEVENT
SUMMARY;LANGUAGE=en-gb:Murder Mystery Evening
CLASS:PUBLIC
CREATED:20260419T210156Z
DESCRIPTION:
DTSTART:20200313T190000
DTEND:20200313T190000
UID:e96562b3-236a-4914-9d25-5085ace3c724
END:VEVENT
END:VCALENDAR
