BEGIN:VCALENDAR
PRODID:https://www.soglos.com
VERSION:2.0
CALSCALE:GREGORIAN
METHOD:PUBLISH
BEGIN:VEVENT
SUMMARY;LANGUAGE=en-gb:Forbidden Nights 
CLASS:PUBLIC
CREATED:20260423T063137Z
DESCRIPTION:
DTSTART:20190209T193000
DTEND:20190209T193000
UID:826262e1-3d33-4894-8733-b02fed73ba68
END:VEVENT
END:VCALENDAR
