BEGIN:VCALENDAR
PRODID:https://www.soglos.com
VERSION:2.0
CALSCALE:GREGORIAN
METHOD:PUBLISH
BEGIN:VEVENT
SUMMARY;LANGUAGE=en-gb:Choose The Crypt
CLASS:PUBLIC
CREATED:20260423T082132Z
DESCRIPTION:
DTSTART:20180305T100000
DTEND:20180305T100000
UID:8a54b370-3722-4da2-83bc-b1ae370d33ae
END:VEVENT
BEGIN:VEVENT
SUMMARY;LANGUAGE=en-gb:Choose The Crypt
CLASS:PUBLIC
CREATED:20260423T082132Z
DESCRIPTION:
DTSTART:20180305T160000
DTEND:20180305T160000
UID:f544febc-9688-4139-8cf0-2f40fbfe3be5
END:VEVENT
BEGIN:VEVENT
SUMMARY;LANGUAGE=en-gb:Choose The Crypt
CLASS:PUBLIC
CREATED:20260423T082132Z
DESCRIPTION:
DTSTART:20180306T100000
DTEND:20180306T100000
UID:8337e07f-d6ed-4759-9fe5-4789536cf6c3
END:VEVENT
BEGIN:VEVENT
SUMMARY;LANGUAGE=en-gb:Choose The Crypt
CLASS:PUBLIC
CREATED:20260423T082132Z
DESCRIPTION:
DTSTART:20180306T160000
DTEND:20180306T160000
UID:4fc87bf9-9e77-43c7-9620-3c35181033d5
END:VEVENT
END:VCALENDAR
