BEGIN:VCALENDAR
PRODID:https://www.soglos.com
VERSION:2.0
CALSCALE:GREGORIAN
METHOD:PUBLISH
BEGIN:VEVENT
SUMMARY;LANGUAGE=en-gb:Cotswolds AONB Hare Trail 2018
CLASS:PUBLIC
CREATED:20260423T193207Z
DESCRIPTION:
DTSTART:20180522T090000
DTEND:20180909T000000
UID:eacaad68-4e6e-460b-874f-16624727ada8
END:VEVENT
END:VCALENDAR
