BEGIN:VCALENDAR
PRODID:https://www.soglos.com
VERSION:2.0
CALSCALE:GREGORIAN
METHOD:PUBLISH
BEGIN:VEVENT
SUMMARY;LANGUAGE=en-gb:Jazz At The Movies
CLASS:PUBLIC
CREATED:20260420T212419Z
DESCRIPTION:
DTSTART:20180505T113000
DTEND:20180505T113000
UID:38e8d1c2-f730-48ff-ad1b-380fd5cbc9b1
END:VEVENT
END:VCALENDAR
