BEGIN:VCALENDAR
PRODID:https://www.soglos.com
VERSION:2.0
CALSCALE:GREGORIAN
METHOD:PUBLISH
BEGIN:VEVENT
SUMMARY;LANGUAGE=en-gb:Brewery Tap Nights
CLASS:PUBLIC
CREATED:20260421T085540Z
DESCRIPTION:
DTSTART:20180427T180000
DTEND:20180427T180000
UID:063b2eaf-2d1f-4c12-b9d4-86c741e8306b
END:VEVENT
BEGIN:VEVENT
SUMMARY;LANGUAGE=en-gb:Brewery Tap Nights
CLASS:PUBLIC
CREATED:20260421T085540Z
DESCRIPTION:
DTSTART:20180525T180000
DTEND:20180525T180000
UID:7b5ceed1-8082-436e-8d9a-c7c8346f4041
END:VEVENT
END:VCALENDAR
