BEGIN:VCALENDAR
PRODID:https://www.soglos.com
VERSION:2.0
CALSCALE:GREGORIAN
METHOD:PUBLISH
BEGIN:VEVENT
SUMMARY;LANGUAGE=en-gb:Fleece Fayre
CLASS:PUBLIC
CREATED:20260421T083743Z
DESCRIPTION:
DTSTART:20180507T103000
DTEND:20180507T103000
UID:e64ff5ec-a85b-46a2-8bb3-ec4282473201
END:VEVENT
END:VCALENDAR
