BEGIN:VCALENDAR
PRODID:https://www.soglos.com
VERSION:2.0
CALSCALE:GREGORIAN
METHOD:PUBLISH
BEGIN:VEVENT
SUMMARY;LANGUAGE=en-gb:Seth Lakeman Gig
CLASS:PUBLIC
CREATED:20260419T133009Z
DESCRIPTION:
DTSTART:20181114T190000
DTEND:20181114T190000
UID:5d4d4499-fa4f-4c8a-b1c9-6081ac62a25c
END:VEVENT
END:VCALENDAR
