BEGIN:VCALENDAR
PRODID:https://www.soglos.com
VERSION:2.0
CALSCALE:GREGORIAN
METHOD:PUBLISH
BEGIN:VEVENT
SUMMARY;LANGUAGE=en-gb:Personalisation Pop Up – Modern Calligraphy
CLASS:PUBLIC
CREATED:20260421T085557Z
DESCRIPTION:
DTSTART:20180630T120000
DTEND:20180630T120000
UID:dc4632ef-9ca6-48fb-9eb1-e5df1924f6bd
END:VEVENT
END:VCALENDAR
