BEGIN:VCALENDAR
PRODID:https://www.soglos.com
VERSION:2.0
CALSCALE:GREGORIAN
METHOD:PUBLISH
BEGIN:VEVENT
SUMMARY;LANGUAGE=en-gb:Free Play Day event
CLASS:PUBLIC
CREATED:20260421T083743Z
DESCRIPTION:
DTSTART:20180821T100000
DTEND:20180821T100000
UID:ad4e3d0b-4205-4346-bc6a-adf02a372747
END:VEVENT
END:VCALENDAR
