BEGIN:VCALENDAR
PRODID:https://www.soglos.com
VERSION:2.0
CALSCALE:GREGORIAN
METHOD:PUBLISH
BEGIN:VEVENT
SUMMARY;LANGUAGE=en-gb:Gloucestershire Constabulary and OPCC Open Day 2019
CLASS:PUBLIC
CREATED:20260421T083826Z
DESCRIPTION:
DTSTART:20190914T100000
DTEND:20190914T100000
UID:409615d6-85e0-45ce-b0f5-2be3cd9d773c
END:VEVENT
END:VCALENDAR
