BEGIN:VCALENDAR
PRODID:https://www.soglos.com
VERSION:2.0
CALSCALE:GREGORIAN
METHOD:PUBLISH
BEGIN:VEVENT
SUMMARY;LANGUAGE=en-gb:The Food Social
CLASS:PUBLIC
CREATED:20260423T081432Z
DESCRIPTION:
DTSTART:20181208T140000
DTEND:20181208T140000
UID:d242603e-91e8-49f5-9f3f-80cec1632ad3
END:VEVENT
END:VCALENDAR
