BEGIN:VCALENDAR
PRODID:https://www.soglos.com
VERSION:2.0
CALSCALE:GREGORIAN
METHOD:PUBLISH
BEGIN:VEVENT
SUMMARY;LANGUAGE=en-gb:Nexus Fostering drop-in session
CLASS:PUBLIC
CREATED:20260421T085721Z
DESCRIPTION:
DTSTART:20180906T130000
DTEND:20180906T130000
UID:8c577648-7e67-4516-b7b5-b259a245d84b
END:VEVENT
END:VCALENDAR
