BEGIN:VCALENDAR
PRODID:https://www.soglos.com
VERSION:2.0
CALSCALE:GREGORIAN
METHOD:PUBLISH
BEGIN:VEVENT
SUMMARY;LANGUAGE=en-gb:The Magical World of Acoustics
CLASS:PUBLIC
CREATED:20260421T085658Z
DESCRIPTION:
DTSTART:20180923T150000
DTEND:20180923T150000
UID:66b0d539-7bd3-42c3-aa16-f01cb4e10127
END:VEVENT
END:VCALENDAR
