BEGIN:VCALENDAR
PRODID:https://www.soglos.com
VERSION:2.0
CALSCALE:GREGORIAN
METHOD:PUBLISH
BEGIN:VEVENT
SUMMARY;LANGUAGE=en-gb:New Year's Eve Gala Dinner
CLASS:PUBLIC
CREATED:20260420T042248Z
DESCRIPTION:
DTSTART:20181231T184500
DTEND:20181231T184500
UID:58a1af51-fafd-47da-8351-36cade071e89
END:VEVENT
END:VCALENDAR
