BEGIN:VCALENDAR
PRODID:https://www.soglos.com
VERSION:2.0
CALSCALE:GREGORIAN
METHOD:PUBLISH
BEGIN:VEVENT
SUMMARY;LANGUAGE=en-gb:Easter Sunday lunch
CLASS:PUBLIC
CREATED:20260423T103441Z
DESCRIPTION:
DTSTART:20190421T120000
DTEND:20190421T120000
UID:a438b07b-fe31-4967-86ab-6e63b2134fdd
END:VEVENT
END:VCALENDAR
