BEGIN:VCALENDAR
PRODID:https://www.soglos.com
VERSION:2.0
CALSCALE:GREGORIAN
METHOD:PUBLISH
BEGIN:VEVENT
SUMMARY;LANGUAGE=en-gb:The Moon Exhibition
CLASS:PUBLIC
CREATED:20260420T210204Z
DESCRIPTION:
DTSTART:20190629T100000
DTEND:20190921T000000
UID:1cf1e616-4915-4d0f-b6b0-e0b443f18c26
END:VEVENT
END:VCALENDAR
