BEGIN:VCALENDAR
PRODID:https://www.soglos.com
VERSION:2.0
CALSCALE:GREGORIAN
METHOD:PUBLISH
BEGIN:VEVENT
SUMMARY;LANGUAGE=en-gb:Christmas Day Lunch
CLASS:PUBLIC
CREATED:20260423T082149Z
DESCRIPTION:
DTSTART:20191225T123000
DTEND:20191225T123000
UID:a9235ea6-1290-4a51-bfc1-4f421b82b76b
END:VEVENT
END:VCALENDAR
