BEGIN:VCALENDAR
PRODID:https://www.soglos.com
VERSION:2.0
CALSCALE:GREGORIAN
METHOD:PUBLISH
BEGIN:VEVENT
SUMMARY;LANGUAGE=en-gb:Kids' Moon Fancy Dress Day
CLASS:PUBLIC
CREATED:20260420T162715Z
DESCRIPTION:
DTSTART:20190824T100000
DTEND:20190824T100000
UID:c871fe47-aff1-4310-ae20-af9937e02d7a
END:VEVENT
END:VCALENDAR
