BEGIN:VCALENDAR
PRODID:https://www.soglos.com
VERSION:2.0
CALSCALE:GREGORIAN
METHOD:PUBLISH
BEGIN:VEVENT
SUMMARY;LANGUAGE=en-gb:Take That Tribute night
CLASS:PUBLIC
CREATED:20260425T020206Z
DESCRIPTION:
DTSTART:20200228T180000
DTEND:20200228T180000
UID:a27f6fde-d822-4917-a33f-ee377c9622c4
END:VEVENT
END:VCALENDAR
