BEGIN:VCALENDAR
PRODID:https://www.soglos.com
VERSION:2.0
CALSCALE:GREGORIAN
METHOD:PUBLISH
BEGIN:VEVENT
SUMMARY;LANGUAGE=en-gb:Easter Trail
CLASS:PUBLIC
CREATED:20260421T085556Z
DESCRIPTION:
DTSTART:20200412T110000
DTEND:20200413T000000
UID:28218c59-1263-4246-9697-abd2d4a30a33
END:VEVENT
END:VCALENDAR
