BEGIN:VCALENDAR
PRODID:https://www.soglos.com
VERSION:2.0
CALSCALE:GREGORIAN
METHOD:PUBLISH
BEGIN:VEVENT
SUMMARY;LANGUAGE=en-gb:Virtual Open Morning
CLASS:PUBLIC
CREATED:20260421T085556Z
DESCRIPTION:
DTSTART:20200515T093000
DTEND:20200515T093000
UID:39a23dd8-6440-4713-a44d-685afdc91a29
END:VEVENT
END:VCALENDAR
