BEGIN:VCALENDAR
PRODID:https://www.soglos.com
VERSION:2.0
CALSCALE:GREGORIAN
METHOD:PUBLISH
BEGIN:VEVENT
SUMMARY;LANGUAGE=en-gb:10 Years of the British Wildlife Photography Awards 
CLASS:PUBLIC
CREATED:20260423T055920Z
DESCRIPTION:
DTSTART:20201204T100000
DTEND:20210110T000000
UID:9bd9d0e8-968d-4d63-a1f8-e28a7e366b74
END:VEVENT
END:VCALENDAR
