BEGIN:VCALENDAR
PRODID:https://www.soglos.com
VERSION:2.0
CALSCALE:GREGORIAN
METHOD:PUBLISH
BEGIN:VEVENT
SUMMARY;LANGUAGE=en-gb:Virtual Open Evening 
CLASS:PUBLIC
CREATED:20260421T023550Z
DESCRIPTION:
DTSTART:20210304T000000
DTEND:20210304T000000
UID:a9032fa8-74b9-4015-bf74-f64fe58ce8cf
END:VEVENT
END:VCALENDAR
