BEGIN:VCALENDAR
PRODID:https://www.soglos.com
VERSION:2.0
CALSCALE:GREGORIAN
METHOD:PUBLISH
BEGIN:VEVENT
SUMMARY;LANGUAGE=en-gb:Cheltenham Festival Preview Night 2021
CLASS:PUBLIC
CREATED:20260421T085513Z
DESCRIPTION:
DTSTART:20210314T200000
DTEND:20210314T200000
UID:06ac2b9c-63e2-493f-8fa1-e7faa4765922
END:VEVENT
END:VCALENDAR
