BEGIN:VCALENDAR
PRODID:https://www.soglos.com
VERSION:2.0
CALSCALE:GREGORIAN
METHOD:PUBLISH
BEGIN:VEVENT
SUMMARY;LANGUAGE=en-gb:Whole School Open Morning
CLASS:PUBLIC
CREATED:20260421T125037Z
DESCRIPTION:
DTSTART:20210424T090000
DTEND:20210424T090000
UID:e0d53ffa-b4a8-4c8f-b8bb-f7309f6588d4
END:VEVENT
END:VCALENDAR
