BEGIN:VCALENDAR
PRODID:https://www.soglos.com
VERSION:2.0
CALSCALE:GREGORIAN
METHOD:PUBLISH
BEGIN:VEVENT
SUMMARY;LANGUAGE=en-gb:Horrible Histories: Barmy Britain
CLASS:PUBLIC
CREATED:20260424T164903Z
DESCRIPTION:
DTSTART:20210819T183000
DTEND:20210821T000000
UID:01303b58-fb5f-4b75-b204-da78067319a5
END:VEVENT
BEGIN:VEVENT
SUMMARY;LANGUAGE=en-gb:Horrible Histories: Barmy Britain
CLASS:PUBLIC
CREATED:20260424T164903Z
DESCRIPTION:
DTSTART:20210820T143000
DTEND:20210820T143000
UID:bf207ef4-eacc-48d3-bb82-ed89cfa6c6f5
END:VEVENT
BEGIN:VEVENT
SUMMARY;LANGUAGE=en-gb:Horrible Histories: Barmy Britain
CLASS:PUBLIC
CREATED:20260424T164903Z
DESCRIPTION:
DTSTART:20210821T143000
DTEND:20210821T143000
UID:d2c36da0-feeb-4161-a321-78564d19d969
END:VEVENT
END:VCALENDAR
