BEGIN:VCALENDAR
PRODID:https://www.soglos.com
VERSION:2.0
CALSCALE:GREGORIAN
METHOD:PUBLISH
BEGIN:VEVENT
SUMMARY;LANGUAGE=en-gb:Rewild Retreat
CLASS:PUBLIC
CREATED:20260421T085539Z
DESCRIPTION:
DTSTART:20210611T100000
DTEND:20210612T000000
UID:601e085d-5f2f-4ed3-866e-30f684dc7084
END:VEVENT
END:VCALENDAR
