BEGIN:VCALENDAR
PRODID:https://www.soglos.com
VERSION:2.0
CALSCALE:GREGORIAN
METHOD:PUBLISH
BEGIN:VEVENT
SUMMARY;LANGUAGE=en-gb:Sausage and Cider Festival 2021
CLASS:PUBLIC
CREATED:20260423T050213Z
DESCRIPTION:
DTSTART:20210820T180000
DTEND:20210820T180000
UID:6bd7f982-790d-48af-9c6e-77d2ff369336
END:VEVENT
END:VCALENDAR
