BEGIN:VCALENDAR
PRODID:https://www.soglos.com
VERSION:2.0
CALSCALE:GREGORIAN
METHOD:PUBLISH
BEGIN:VEVENT
SUMMARY;LANGUAGE=en-gb:Little Red Riding Hood and The Three Funky Pigs
CLASS:PUBLIC
CREATED:20260421T085513Z
DESCRIPTION:
DTSTART:20210718T150000
DTEND:20210718T150000
UID:82c12b51-4228-4f74-9bb5-d2f1f891098c
END:VEVENT
END:VCALENDAR
