BEGIN:VCALENDAR
PRODID:https://www.soglos.com
VERSION:2.0
CALSCALE:GREGORIAN
METHOD:PUBLISH
BEGIN:VEVENT
SUMMARY;LANGUAGE=en-gb:Gloucester History Festival Spring Weekend
CLASS:PUBLIC
CREATED:20260425T164340Z
DESCRIPTION:
DTSTART:20240412T000000
DTEND:20240414T000000
UID:f2b72481-ba28-4b73-9831-bf3457ba2655
END:VEVENT
END:VCALENDAR
