BEGIN:VCALENDAR
PRODID:https://www.soglos.com
VERSION:2.0
CALSCALE:GREGORIAN
METHOD:PUBLISH
BEGIN:VEVENT
SUMMARY;LANGUAGE=en-gb:Tewkesbury Festival of Lights
CLASS:PUBLIC
CREATED:20260420T105529Z
DESCRIPTION:
DTSTART:20211102T000000
DTEND:20211106T000000
UID:48735eb7-a552-437f-a217-67ea18b93237
END:VEVENT
END:VCALENDAR
