BEGIN:VCALENDAR
PRODID:https://www.soglos.com
VERSION:2.0
CALSCALE:GREGORIAN
METHOD:PUBLISH
BEGIN:VEVENT
SUMMARY;LANGUAGE=en-gb:Mary Shelley’s House of Frankenstein ‘After Dark’ 
CLASS:PUBLIC
CREATED:20260423T083740Z
DESCRIPTION:
DTSTART:20211022T180000
DTEND:20211024T000000
UID:02d699f7-9b10-4cef-8243-6bb211ff3088
END:VEVENT
BEGIN:VEVENT
SUMMARY;LANGUAGE=en-gb:Mary Shelley’s House of Frankenstein ‘After Dark’ 
CLASS:PUBLIC
CREATED:20260423T083740Z
DESCRIPTION:
DTSTART:20211029T180000
DTEND:20211031T000000
UID:56663cc8-7341-4117-8bbd-bfd9583b201d
END:VEVENT
END:VCALENDAR
