BEGIN:VCALENDAR
PRODID:https://www.soglos.com
VERSION:2.0
CALSCALE:GREGORIAN
METHOD:PUBLISH
BEGIN:VEVENT
SUMMARY;LANGUAGE=en-gb:Alexis Taylor and John Coxon at DEYA Brewery
CLASS:PUBLIC
CREATED:20260423T214101Z
DESCRIPTION:
DTSTART:20220203T190000
DTEND:20220203T190000
UID:cde4c9a7-e8cd-4423-b90c-1d2aa57780fb
END:VEVENT
END:VCALENDAR
