BEGIN:VCALENDAR
PRODID:https://www.soglos.com
VERSION:2.0
CALSCALE:GREGORIAN
METHOD:PUBLISH
BEGIN:VEVENT
SUMMARY;LANGUAGE=en-gb:Texas at Forest Live 2022
CLASS:PUBLIC
CREATED:20260420T032308Z
DESCRIPTION:
DTSTART:20220612T190000
DTEND:20220612T190000
UID:ad63c288-569e-44f5-941c-46d1bd1dbe38
END:VEVENT
END:VCALENDAR
