BEGIN:VCALENDAR
PRODID:https://www.soglos.com
VERSION:2.0
CALSCALE:GREGORIAN
METHOD:PUBLISH
BEGIN:VEVENT
SUMMARY;LANGUAGE=en-gb:Wotton House Spring Discovery Day
CLASS:PUBLIC
CREATED:20260421T041811Z
DESCRIPTION:
DTSTART:20220326T000000
DTEND:20220326T000000
UID:d8cba677-5450-4221-bf6e-267c20ac39e5
END:VEVENT
END:VCALENDAR
