BEGIN:VCALENDAR
PRODID:https://www.soglos.com
VERSION:2.0
CALSCALE:GREGORIAN
METHOD:PUBLISH
BEGIN:VEVENT
SUMMARY;LANGUAGE=en-gb:Oxford Philharmonic Orchestra 2022
CLASS:PUBLIC
CREATED:20260420T213216Z
DESCRIPTION:
DTSTART:20220616T193000
DTEND:20220616T193000
UID:02829377-de03-4061-b3d0-3b07d1602e5a
END:VEVENT
END:VCALENDAR
