BEGIN:VCALENDAR
PRODID:https://www.soglos.com
VERSION:2.0
CALSCALE:GREGORIAN
METHOD:PUBLISH
BEGIN:VEVENT
SUMMARY;LANGUAGE=en-gb:Hands on History
CLASS:PUBLIC
CREATED:20260421T083701Z
DESCRIPTION:
DTSTART:20220702T100000
DTEND:20220702T100000
UID:1590b51d-aaf4-4777-8d24-2304d1ddf7ee
END:VEVENT
END:VCALENDAR
