BEGIN:VCALENDAR
PRODID:https://www.soglos.com
VERSION:2.0
CALSCALE:GREGORIAN
METHOD:PUBLISH
BEGIN:VEVENT
SUMMARY;LANGUAGE=en-gb:An Afternoon at Beaufort for Alzheimer's Society
CLASS:PUBLIC
CREATED:20260421T085506Z
DESCRIPTION:
DTSTART:20220909T000000
DTEND:20220909T000000
UID:b0ff623a-04de-467e-be12-5a86fe884347
END:VEVENT
END:VCALENDAR
