BEGIN:VCALENDAR
PRODID:https://www.soglos.com
VERSION:2.0
CALSCALE:GREGORIAN
METHOD:PUBLISH
BEGIN:VEVENT
SUMMARY;LANGUAGE=en-gb:November Fostering Information Session
CLASS:PUBLIC
CREATED:20260421T085539Z
DESCRIPTION:
DTSTART:20221114T183000
DTEND:20221114T193000
UID:9e7e725f-1ae2-4669-8f71-f6ce1db05555
END:VEVENT
END:VCALENDAR
