BEGIN:VCALENDAR
PRODID:https://www.soglos.com
VERSION:2.0
CALSCALE:GREGORIAN
METHOD:PUBLISH
BEGIN:VEVENT
SUMMARY;LANGUAGE=en-gb:Big Cat Tails Photographic Exhibition
CLASS:PUBLIC
CREATED:20260423T102825Z
DESCRIPTION:
DTSTART:20221102T000000
DTEND:20221108T000000
UID:bcd1aab0-ab97-4f5e-b70b-c561ef5bca17
END:VEVENT
END:VCALENDAR
