BEGIN:VCALENDAR
PRODID:https://www.soglos.com
VERSION:2.0
CALSCALE:GREGORIAN
METHOD:PUBLISH
BEGIN:VEVENT
SUMMARY;LANGUAGE=en-gb:Festive Orchard Street Market
CLASS:PUBLIC
CREATED:20260424T034933Z
DESCRIPTION:
DTSTART:20221105T100000
DTEND:20221106T170000
UID:06b5ae39-bdee-4529-b62c-afb074820887
END:VEVENT
BEGIN:VEVENT
SUMMARY;LANGUAGE=en-gb:Festive Orchard Street Market
CLASS:PUBLIC
CREATED:20260424T034933Z
DESCRIPTION:
DTSTART:20221112T100000
DTEND:20221113T170000
UID:f6c20589-42ee-4b8d-bab4-f6bd8aaa48e2
END:VEVENT
BEGIN:VEVENT
SUMMARY;LANGUAGE=en-gb:Festive Orchard Street Market
CLASS:PUBLIC
CREATED:20260424T034933Z
DESCRIPTION:
DTSTART:20221119T100000
DTEND:20221120T170000
UID:00d7f7b1-3b0f-4a74-97ba-2135afa83318
END:VEVENT
BEGIN:VEVENT
SUMMARY;LANGUAGE=en-gb:Festive Orchard Street Market
CLASS:PUBLIC
CREATED:20260424T034933Z
DESCRIPTION:
DTSTART:20221126T100000
DTEND:20221127T170000
UID:9da5ccde-4493-43a6-b48b-068267ee1ff6
END:VEVENT
BEGIN:VEVENT
SUMMARY;LANGUAGE=en-gb:Festive Orchard Street Market
CLASS:PUBLIC
CREATED:20260424T034933Z
DESCRIPTION:
DTSTART:20221203T100000
DTEND:20221204T170000
UID:18c0d8bb-3b37-40b8-b0f6-551ef7d2691a
END:VEVENT
BEGIN:VEVENT
SUMMARY;LANGUAGE=en-gb:Festive Orchard Street Market
CLASS:PUBLIC
CREATED:20260424T034933Z
DESCRIPTION:
DTSTART:20221210T100000
DTEND:20221211T170000
UID:36a1d61e-a2d7-4113-b5e7-1d3b6a493042
END:VEVENT
BEGIN:VEVENT
SUMMARY;LANGUAGE=en-gb:Festive Orchard Street Market
CLASS:PUBLIC
CREATED:20260424T034933Z
DESCRIPTION:
DTSTART:20221217T100000
DTEND:20221218T170000
UID:375b51e4-0edf-4392-9f3d-a9fc178c46a2
END:VEVENT
END:VCALENDAR
