BEGIN:VCALENDAR
PRODID:https://www.soglos.com
VERSION:2.0
CALSCALE:GREGORIAN
METHOD:PUBLISH
BEGIN:VEVENT
SUMMARY;LANGUAGE=en-gb:January fostering information session
CLASS:PUBLIC
CREATED:20260420T163531Z
DESCRIPTION:
DTSTART:20230128T000000
DTEND:20230128T000000
UID:0a5f76ec-30f7-4f89-98dc-e40af5c53b3f
END:VEVENT
END:VCALENDAR
